{"text_format":"3","workbook":"xlsx","n_sheets":3,"sheets":["Prognose","Berechnungsparameter","Daten"],"not_rendered":{"images":2,"macros":1,"defined_names":33},"read":"whole","date_system":"1900"}

{"sheet":"Prognose","index":0,"n_rows":33,"n_cols":14,"rows_kept":33,"merged":[[0,0,0,13],[1,0,2,13],[4,0,4,2],[4,3,4,5],[6,0,6,2],[8,0,8,2],[22,1,22,6],[23,1,23,6],[24,1,24,6],[28,1,28,2],[29,1,29,2],[30,1,30,2],[31,1,31,2]]}
["Finanzhilfeprognose für allgemein bildende Schulen in  freier Trägerschaft für das Schuljahr 2025/2026"]
["Auf dieser Seite können Sie die Höhe des Grundbetrages, die maximale Höhe des Erhöhungsbetrages und damit die maximale Höhe der Finanzhilfe für Ihre Schule prognostizieren. \n\nErforderlich ist dazu nur, dass Sie die entsprechende Schulform auswählen, sowie die Angaben zur Zusatzversorgung und Altersvorsorge für von der Rentenversicherung befreite Lehrkräfte angeben.\n\nAnschließend erfassen Sie bitte unter Abschnitt I und Abschnitt II die Daten Ihrer Schule in den grün hinterlegten Feldern."]
[]
[]
["Wählen Sie bitte zunächst für Ihre Schule die Schulform bzw. -art aus",null,null,"(noch keine Auswahl)",{"$nulls":7},{"$f":"IF(SF>6,\"\",\"Stand:\")","v":"Stand:"},{"$f":"IF(SF<=6,\"\",\"Stand:\")","v":""},"2025-07-01"]
[]
["Leisten Sie für Ihre Lehrkräfte bzw. Ihr Zusatzpersonal eine Zusatzversorgung?",null,null,"nein"]
[]
["Leisten Sie Beiträge zur Altersvorsorge für von der Rentenversicherung befreite Lehrkräfte?",null,null,"nein"]
[]
["Abschnitt I (Eingabefelder)"]
[null,{"$f":"IF(SF=1,\"Sie haben bisher keine Schulfom ausgewählt!\",\"Schulform, -gliederung, oder -zweig\")","v":"Sie haben bisher keine Schulfom ausgewählt!"},{"$f":"IF(SF=1,\"\",\"Zahl SuS\")","v":""},{"$f":"IF(SF=1,\"\",\"Ist Stunden\n\nLK\")","v":""},{"$f":"IF(OR(SF=7,SF=8),\"Ist Stunden\n\nPM\",\"\")","v":""},{"$f":"IF(SF=1,\"\",\"Tatsächliche Schülerstunden\n\nLK\")","v":""},{"$f":"IF(OR(SF=7,SF=8),\"Tatsächliche Schülerstunden\n\nPM\",\"\")","v":""},{"$f":"IF(SF=1,\"\",\"Nominelle Schülerstunden\n\nLK\")","v":""},{"$f":"IF(OR(SF=7,SF=8),\"Nominelle Schülerstunden\n\nPM\",\"\")","v":""},{"$f":"IF(SF=1,\"\",\"Maßgebliche Schülerstunden\n\nLK\")","v":""},{"$f":"IF(OR(SF=7,SF=8),\"Maßgebliche Schülerstunden\n\nPM\",\"\")","v":""},{"$f":"IF(SF=1,\"\",\"Stundensatz\n\nLK\")","v":""},{"$f":"IF(OR(SF=7,SF=8),\"Stundensatz\n\nPM\",\"\")","v":""},{"$f":"IF(SF=1,\"\",\"Grundbetrag Finanzhilfe\")","v":""}]
["1.1",{"$f":"IF(OR(SF=2,SF=3),\"Grundschule\",IF(OR(SF=4,SF=6,SF=7),\"Primar\",IF(SF=5,\"Sek I\",IF(SF=8,\"FöS LE\",\"\"))))","v":""},{"$nulls":3},{"$f":"IF(B13=\"\",\"\",IF(C13>0,D13/C13,0))","v":""},{"$f":"IF(SF=8,IF(C13>0,E13/C13,0),\"\")","v":""},{"$f":"IF(OR(SF=2,SF=3,SF=4,SF=6,SF=7),LGS,IF(SF=5,LGymSekI,IF(SF=8,LLE,\"\")))","v":""},null,{"$f":"IF(B13=\"\",\"\",IF(H13<F13,H13,F13))","v":""},null,{"$f":"IF(OR(SF=2,SF=3,SF=4,SF=6,SF=7),SatzGS,IF(SF=5,SatzGym,IF(SF=8,SatzFöS,\"\")))","v":""},null,{"$f":"IF(B13=\"\",\"\",IF(AND(C13>0,K13<>\"\"),L13*J13*C13+M13*K13*C13,IF(AND(C13>0,K13=\"\"),L13*J13*C13,0)))","v":""}]
["1.2",{"$f":"IF(OR(SF=4,SF=6,SF=7),\"Sek I\",IF(SF=2,\"Hauptschule\",IF(SF=3,\"Oberschule\",IF(SF=5,\"Sek II\",IF(SF=8,\"FöS ESE\",\"\")))))","v":""},{"$nulls":3},{"$f":"IF(B14=\"\",\"\",IF(C14>0,D14/C14,0))","v":""},{"$f":"IF(SF=8,IF(C14>0,E14/C14,0),\"\")","v":""},{"$f":"IF(SF=2,LHS,IF(SF=3,LObS,IF(SF=4,LGesSSekI,IF(SF=5,LGymSekII,IF(OR(SF=6,SF=7),LGymSekI,IF(SF=8,LESE,\"\"))))))","v":""},{"$f":"IF(SF=8,PMESE,\"\")","v":""},{"$f":"IF(B14=\"\",\"\",IF(H14<F14,H14,F14))","v":""},{"$f":"IF(SF=8,IF(I14<G14,I14,G14),\"\")","v":""},{"$f":"IF(SF=2,SatzHS,IF(SF=3,SatzObS,IF(SF=4,SatzGes,IF(OR(SF=5,SF=6,SF=7),SatzGym,IF(SF=8,SatzFöS,\"\")))))","v":""},{"$f":"IF(SF=8,SatzPM,\"\")","v":""},""]
["1.3",{"$f":"IF(OR(SF=4,SF=6,SF=7),\"Sek II\",IF(SF=2,\"Realschule\",IF(SF=8,\"FöS GE\",\"\")))","v":""},{"$nulls":3},"",{"$f":"IF(SF=8,IF(C15>0,E15/C15,0),\"\")","v":""},{"$f":"IF(OR(SF=6,SF=7),LGymSekII,IF(SF=2,LRS,IF(SF=4,LGesSSekII,IF(SF=8,LGE,\"\"))))","v":""},{"$f":"IF(SF=8,PMGE,\"\")","v":""},"",{"$f":"IF(SF=8,IF(I15<G15,I15,G15),\"\")","v":""},{"$f":"IF(OR(SF=6,SF=7),SatzGym,IF(SF=2,SatzRS,IF(SF=4,SatzGes,IF(SF=8,SatzFöS,\"\"))))","v":""},{"$f":"IF(SF=8,SatzPM,\"\")","v":""},""]
["1.4",{"$f":"IF(SF=7,\"FöS LE\",IF(SF=8,\"FöS KME\",\"\"))","v":""},{"$nulls":3},"",{"$f":"IF(OR(SF=7,SF=8),IF(C16>0,E16/C16,0),\"\")","v":""},{"$f":"IF(SF=7,LLE,IF(SF=8,LKME,\"\"))","v":""},{"$f":"IF(SF=8,PMKME,\"\")","v":""},"",{"$f":"IF(SF=8,IF(I16<G16,I16,G16),\"\")","v":""},{"$f":"IF(OR(SF=7,SF=8),SatzFöS,\"\")","v":""},{"$f":"IF(SF=8,SatzPM,\"\")","v":""},{"$f":"IF(B16=\"\",\"\",IF(AND(C16>0,K16<>\"\"),L16*J16*C16+M16*K16*C16,IF(AND(C16>0,K16=\"\"),L16*J16*C16,0)))","v":""}]
["1.5",{"$f":"IF(SF=7,\"FöS ESE\",IF(SF=8,\"FöS SP\",\"\"))","v":""},{"$nulls":3},"",{"$f":"IF(OR(SF=7,SF=8),IF(C17>0,E17/C17,0),\"\")","v":""},{"$f":"IF(SF=7,LESE,IF(SF=8,LSP,\"\"))","v":""},{"$f":"IF(SF=7,PMESE,\"\")","v":""},"",{"$f":"IF(SF=7,IF(I17<G17,I17,G17),\"\")","v":""},{"$f":"IF(OR(SF=7,SF=8),SatzFöS,\"\")","v":""},{"$f":"IF(SF=7,SatzPM,\"\")","v":""},{"$f":"IF(B17=\"\",\"\",IF(AND(C17>0,K17<>\"\"),L17*J17*C17+M17*K17*C17,IF(AND(C17>0,K17=\"\"),L17*J17*C17,0)))","v":""}]
["1.6",{"$f":"IF(SF=7,\"FöS GE\",IF(SF=8,\"FöS SE\",\"\"))","v":""},{"$nulls":3},"",{"$f":"IF(OR(SF=7,SF=8),IF(C18>0,E18/C18,0),\"\")","v":""},{"$f":"IF(SF=7,LGE,IF(SF=8,LSE,\"\"))","v":""},{"$f":"IF(SF=7,PMGE,IF(SF=8,PMSE,\"\"))","v":""},"",{"$f":"IF(OR(SF=7,SF=8),IF(I18<G18,I18,G18),\"\")","v":""},{"$f":"IF(OR(SF=7,SF=8),SatzFöS,\"\")","v":""},{"$f":"IF(OR(SF=7,SF=8),SatzPM,\"\")","v":""},""]
["1.7",{"$f":"IF(SF=7,\"FöS KME\",IF(SF=8,\"FöS HÖ\",\"\"))","v":""},{"$nulls":3},"",{"$f":"IF(OR(SF=7,SF=8),IF(C19>0,E19/C19,0),\"\")","v":""},{"$f":"IF(SF=7,LKME,IF(SF=8,LHÖ,\"\"))","v":""},{"$f":"IF(SF=7,PMKME,\"\")","v":""},"",{"$f":"IF(SF=7,IF(I19<G19,I19,G19),\"\")","v":""},{"$f":"IF(OR(SF=7,SF=8),SatzFöS,\"\")","v":""},{"$f":"IF(SF=7,SatzPM,\"\")","v":""},""]
[{"$f":"IF(OR(SF=2,SF=4,SF=6),\"1.4\",IF(OR(SF=3,SF=5),\"1.3\",IF(SF=1,\"\",\"1.8\")))","v":""},{"$nulls":10},{"$f":"IF(SF=1,\"\",IF(SF<=6,\"Zwischen-\nergebniss:\",\"\"))","v":""},{"$f":"IF(SF=1,\"\",IF(SF>5,\"Zwischen-\nergebnis:\",\"\"))","v":""},{"$f":"IF(SF=1,\"\",SUM(N13:N19))","v":""}]
[]
["Abschnitt II (Erhöhngsbetrag)"]
[null,{"$f":"IF(AND(ZV=1,rDB=1),\"Sie leisten keine Zusatzversorgung und/oder Altersvorsorge für von der Rentenversicherung befreite Lehrkräfte!\",\"\")","v":"Sie leisten keine Zusatzversorgung und/oder Altersvorsorge für von der Rentenversicherung befreite Lehrkräfte!"},{"$nulls":5},{"$f":"IF(B23=\"\",\"Betrag\",\"\")","v":""},{"$f":"IF(SF>6,(IF(B23=\"\",\"Max. mögl. Erhöhungsbetrag § 3 Abs. 2 FinHVO\",\"\")),\"\")","v":""},{"$f":"IF(SF<=6,(IF(B23=\"\",\"Max. möglicher Erhöhungsbetrag § 3 Abs. 2 FinHVO\",\"\")),\"\")","v":""}]
["2.1",{"$f":"IF(ZV=2,\"Summe der Bruttogehälter aller Beschäfigten, für die die Erhöhungsbeträge nach § 3 Abs. 2 Nr. 1 FinHVO (Zusatzversorgung) beantragt werden, unabhängig von der Schulform\",\"\")","v":""},{"$nulls":6},{"$f":"IF(SF>6,H24*6.9/100,\"\")","v":""},{"$f":"IF(SF<6,H24*6.9/100*0.8,\"\")","v":{"v":0,"d":"0.00 €"}}]
[{"$f":"IF(ZV_J_N=\"nein\",\"2.1\",\"2.2\")","v":"2.1"},{"$f":"IF(rDB=2,\"Summe der ruhegehaltsfähigen Dienstbezüge gem. § 3 Abs. 2 Nr. 2 FinHVO, unabhängig von der Schulform\",\"\")","v":""},{"$nulls":6},{"$f":"IF(SF>6,H25*0.3,\"\")","v":""},{"$f":"IF(SF<=6,H25*0.3,\"\")","v":{"v":0,"d":"0.00 €"}}]
[{"$nulls":5},{"$f":"IF(AND(ZV=1,rDB=1),\"\",IF(SF<=6,\"Zwischen-\nergebnis:\",\"\"))","v":""},{"$f":"IF(AND(ZV=1,rDB=1),\"\",IF(SF>6,\"Zwischen-\nergebnis:\",\"\"))","v":""},{"$f":"IF(AND(ZV=1,rDB=1),\"\",SUM(H24:H25))","v":""},{"$f":"IF(AND(ZV=1,rDB=1),\"\",IF(SF>6,SUM(I24:I25),\"\"))","v":""},{"$f":"IF(AND(ZV=1,rDB=1),\"\",IF(SF<=6,SUM(J24:J25),\"\"))","v":""}]
[]
["Abschnitt III (Ergebnisse)"]
["3.1","Grundbetrag Finanzhilfe",null,{"$f":"N20","v":""}]
[{"$f":"IF(SF=1,\"3.1\",\"3.2\")","v":"3.1"},"Maximal möglicher Erhöhungsbetrag\n§ 3 Abs. 2 Nr. 1 FinHVO",null,{"$f":"IF(SF>6,I24,J24)","v":{"v":0,"d":"0.00 €"}}]
[{"$f":"IF(AND(SF=1,ZV=1),\"3.1\",IF(AND(SF=1,ZV=2),\"3.2\",\"3.3\"))","v":"3.1"},"Maximal möglicher Erhöhungsbetrag\n§ 3 Abs. 2 Nr. 2 FinHVO",null,{"$f":"IF(SF>6,I25,J25)","v":{"v":0,"d":"0.00 €"}}]
[{"$f":"IF(AND(ZV_J_N=\"nein\",rDB_J_N=\"nein\"),\"3.2\",IF(AND(ZV_J_N=\"nein\",rDB_J_N,\"ja\"),\"3.3\",IF(AND(ZV_J_N=\"ja\",rDB_J_N,\"nein\"),\"3.3\",\"3.4\")))","v":"3.2"},"Maximal mögliche Finanzhilfe",null,{"$f":"SUM(D29:D31)","v":{"v":0,"d":"0.00 €"}}]
[null,{"$f":"IF(SF<>1,\"\",IF(AND(SF=1,ZV<>1),\"Es fehlt noch an der Auswanhl der Schulform um ein Ergebnis anzeigen zu konnen!\",IF(AND(SF=1,rDB<>1),\"Es fehlt noch an der Auswanhl der Schulform um ein Ergebnis anzeigen zu konnen!\",\"Es gibt nichts zu berechnen und somit auch kein Ergebnis!\")))","v":"Es gibt nichts zu berechnen und somit auch kein Ergebnis!"}]

{"sheet":"Berechnungsparameter","index":1,"n_rows":45,"n_cols":21,"rows_kept":45,"merged":[[4,7,13,7],[4,8,13,8],[17,1,18,1]]}
["Abschnitt IV (Nachrichtlich - Berechnungparameter)"]
["4.1","Lehrkräfte"]
[{"$nulls":12},"Parameter LK"]
[null,"Schulform","Entgeltgruppe ","Jahresentgelt - 6,9 % ZVL + 0,8 % Sachkosten","Faktor F","Regelstundenzahl","Faktor AS","Faktor S","Abschlag","Stundensatz","Stundensatz kaufmännisch gerundet",null,"Entgeltgruppe ","Durchsnittliches Jahresentgelt"," - 6,9 % Zusatzversorgung"," + 0,8 % personalbezogene Sachkosten",null,"Rentenversicherungspflichtige Entgelt"]
[null,"Grundschule","E 13",{"$f":"P5","v":{"v":87716.78088384826,"d":"87,716.78"}},1.1,28,1.08,1.167,0.8,{"$f":"(D5*E5/F5)*G5*H$5*I$5","v":{"v":3474.5769757212497,"d":"3,474.5770"}},{"$f":"J5","v":{"v":3474.5769757212497,"d":"3,474.58"}},null,"E 13",{"v":91985,"d":"91,985.00"},{"$f":"N5-R5*6.9/100","v":{"v":87020.61595619867,"d":"87,020.62"}},{"$f":"O5*(100+0.8)/100","v":{"v":87716.78088384826,"d":"87,716.78"}},null,{"$f":"N5/127.85*100","v":{"v":71947.59483770044,"d":"71,947.59"}},{"v":1,"d":"100.00%"},{"$f":"T8/S8*S5","v":{"v":71947.59483770044,"d":"71,947.59 €"}},"Rentenvers.pflicht. EG"]
[null,"Hauptschule","E 13",{"v":87716.78088384826,"d":"87,716.78"},1.1,27.5,1.07,null,null,{"v":3504.9941478992805,"d":"3,504.9941"},{"v":3504.9941478992805,"d":"3,504.99"},null,"E 13",{"v":91985,"d":"91,985.00"},{"$f":"N6-R6*6.9/100","v":{"v":87020.61595619867,"d":"87,020.62"}},{"v":87716.78088384826,"d":"87,716.78"},null,{"$f":"N6/127.85*100","v":{"v":71947.59483770044,"d":"71,947.59"}},{"v":0.2095,"d":"20.95%"},{"$f":"T8/S8*S6","v":{"v":15073.021118498242,"d":"15,073.02 €"}},"Sozialvers.Lesitungen"]
[null,"Realschule","E 13",{"v":87716.78088384826,"d":"87,716.78"},1.1,26.5,1.07,null,null,{"v":3637.2580780086864,"d":"3,637.2581"},{"v":3637.2580780086864,"d":"3,637.26"},null,"E 13",{"v":91985,"d":"91,985.00"},{"v":87020.61595619867,"d":"87,020.62"},{"v":87716.78088384826,"d":"87,716.78"},null,{"v":71947.59483770044,"d":"71,947.59"},{"v":0.069,"d":"6.90%"},{"$f":"T8/S8*S7","v":{"v":4964.38404380133,"d":"4,964.38 €"}},"ZVL"]
[null,"Oberschule","E 13",{"v":87716.78088384826,"d":"87,716.78"},1.1,25.5,1.07,null,null,{"v":3779.895649695303,"d":"3,779.8956"},{"v":3779.895649695303,"d":"3,779.90"},null,"E 13",{"v":91985,"d":"91,985.00"},{"v":87020.61595619867,"d":"87,020.62"},{"v":87716.78088384826,"d":"87,716.78"},null,{"v":71947.59483770044,"d":"71,947.59"},{"$f":"SUM(S5:S7)","v":{"v":1.2785,"d":"127.85%"}},{"v":91985,"d":"91,985.00 €"},{"$f":"SUM(T5:T7)","v":91985.00000000001}]
[null,"Gesamtschule","E 13",{"v":87716.78088384826,"d":"87,716.78"},1.15,24.5,1.08,null,null,{"v":4151.44262034227,"d":"4,151.4426"},{"v":4151.44262034227,"d":"4,151.44"},null,"E 13",{"v":91985,"d":"91,985.00"},{"v":87020.61595619867,"d":"87,020.62"},{"v":87716.78088384826,"d":"87,716.78"},null,{"v":71947.59483770044,"d":"71,947.59"}]
[null,"Gymnasium","E 13",{"v":87716.78088384826,"d":"87,716.78"},1.15,23.5,1.07,null,null,{"v":4288.024755408693,"d":"4,288.0248"},{"v":4288.024755408693,"d":"4,288.02"},null,"E 13",{"v":91985,"d":"91,985.00"},{"v":87020.61595619867,"d":"87,020.62"},{"v":87716.78088384826,"d":"87,716.78"},null,{"v":71947.59483770044,"d":"71,947.59"}]
[null,"Förderschule","E 13",{"v":87716.78088384826,"d":"87,716.78"},1.09,26.5,1.06,null,null,{"v":3570.508057205809,"d":"3,570.5081"},{"v":3570.508057205809,"d":"3,570.51"},null,"E 13",{"v":91985,"d":"91,985.00"},{"v":87020.61595619867,"d":"87,020.62"},{"v":87716.78088384826,"d":"87,716.78"},null,{"v":71947.59483770044,"d":"71,947.59"}]
[null,"Berufsbildende Schule – Theorie LK ","E 13",{"v":86323.13927999999,"d":"86,323.14"},1.11,24.5,1.07,null,null,{"v":3906.8680252791173,"d":"3,906.8680"},{"v":3906.8680252791173,"d":"3,906.87"},null,"E 13",{"v":91985,"d":"91,985.00"},{"$f":"N12*(100-6.9)/100","v":{"v":85638.035,"d":"85,638.04"}},{"v":86323.13927999999,"d":"86,323.14"},null,{"$f":"Q12*(100-6.9)/100","v":{"v":0,"d":"0.00"}}]
[null,"Berufsbildende Schule – Fach LK ","E 12",{"v":75595.740192,"d":"75,595.74"},1.11,25.5,1.07,null,null,{"v":3287.1895137439005,"d":"3,287.1895"},{"v":3287.1895137439005,"d":"3,287.19"},{"$f":"AVERAGE(K12:K14)","v":{"v":3282.2016125829487,"d":"3,282.20"}},"E 12",{"v":80554,"d":"80,554.00"},{"$f":"N13*(100-6.9)/100","v":{"v":74995.77399999999,"d":"74,995.77"}},{"v":75595.740192,"d":"75,595.74"},null,{"$f":"Q13*(100-6.9)/100","v":{"v":0,"d":"0.00"}}]
[null,"Berufsbildende Schule – Fachpraxis LK ","E 9b",{"v":65785.20479999999,"d":"65,785.20"},1.11,27.5,1.07,null,null,{"v":2652.5472987258277,"d":"2,652.5473"},{"v":2652.5472987258277,"d":"2,652.55"},null,"E 9b",{"v":70100,"d":"70,100.00"},{"$f":"N14*(100-6.9)/100","v":{"v":65263.1,"d":"65,263.10"}},{"v":65785.20479999999,"d":"65,785.20"},null,{"$f":"Q14*(100-6.9)/100","v":{"v":0,"d":"0.00"}}]
[]
["4.2","Pädagogische Mitarbeiter:",{"$nulls":10},"Parameter PM"]
[]
[null,"Pädagogische\nMitarbeiter:","Entgeltgruppe ","Jahresentgelt - 6,9 % ZVL + 0,8 % Sachkosten",null,"Wöchentliche Arbeitszeit",null,"Faktor S","Abschlag","Stundensatz","Stundensatz kaufmännisch gerundet",null,"Entgeltgruppe ","Durchsnittliches Jahresentgelt"," - 6,9 % Zusatzversorgung"," + 0,8 % personalbezogene Sachkosten",null,"Rentenversicherungspflichtige Entgelt"]
[null,null,"E9a",{"$f":"P19","v":{"v":64520.49132577239,"d":"64,520.49"}},null,39,null,1.167,0.8,{"$f":"D19/F19*H19*I19","v":{"v":1544.5213000446438,"d":"1,544.5213"}},{"$f":"J19","v":{"v":1544.5213000446438,"d":"1,544.52"}},null,"E9a",{"v":67660,"d":"67,660"},{"$f":"N19-R19*6.9/100","v":{"v":64008.42393429801,"d":"64,008.42"}},{"$f":"O19*(100+0.8)/100","v":{"v":64520.49132577239,"d":"64,520.49"}},null,{"$f":"N19/127.85*100","v":{"v":52921.392256550644,"d":"52,921.39"}}]
[]
[]
["Abschnitt V (Nachrichtlich Schülerstunden nach Anlage 1 zu § 1 Abs. 1 Finanzhilfeverordnung)"]
[]
[{"$nulls":10},"Lehr-\npersonal",{"$nulls":5},"Zusatz-\npersonal"]
[null,"Grundschule",{"$nulls":8},1.51,{"$nulls":5},"./."]
[null,"Hauptschule",{"$nulls":8},2.16,{"$nulls":5},"./."]
[null,"Realschule",{"$nulls":8},1.38,{"$nulls":5},"./."]
[null,"Oberschule",{"$nulls":8},1.81,{"$nulls":5},"./."]
[null,"Gesamtschule Sek I",{"$nulls":8},1.36,{"$nulls":5},"./."]
[null,"Gesamtschule Sek II",{"$nulls":8},{"v":1.8,"d":"1.80"},{"$nulls":5},"./."]
[null,"Gymnasium Sek I",{"$nulls":8},1.36,{"$nulls":5},"./."]
[null,"Gymnasium Sek II",{"$nulls":8},{"v":1.8,"d":"1.80"},{"$nulls":5},"./."]
[null,"Förderschule LE",{"$nulls":8},2.89,{"$nulls":5},"./."]
[null,"Förderschule ESE",{"$nulls":8},{"v":3.9,"d":"3.90"},{"$nulls":5},1.81]
[null,"Förderschule Sprache",{"$nulls":8},2.52,{"$nulls":5},"./."]
[null,"Förderschule GE",{"$nulls":8},5.13,{"$nulls":5},5.14]
[null,"Förderschule KME",{"$nulls":8},4.26,{"$nulls":5},3.35]
[null,"Förderschule Sehen",{"$nulls":8},5.69,{"$nulls":5},1.07]
[null,"Förderschule Hören",{"$nulls":8},5.21,{"$nulls":5},"./."]
[]
[]
["Abschnitt VI (Hinweise)"]
[null,"Dieses Formular dient allein der Prognose der voraussichtlichen Finanzhilfe. Die tatsächliche Höhe wird ausschließlich durch die Abrechnung festgesetzt."]
[null,"Die Prognose basiert auf Ihren Eingaben. Maßgeblich für die tatsächliche Höhe ist der Mittelwert der Schülerzahlen (15.11. u. 15.03.) sowie die Ist-Stunden aus der amtlichen Statistik"]
[null,"Die Erhöhungsbeträge nach § 150 Abs. 7 NSchG sowie die Bereinigung des Grunbetrages werden spitz abgerechnet und werden in diesem Prognosemodul nicht abgebildet."]

{"sheet":"Daten","index":2,"n_rows":22,"n_cols":3,"rows_kept":22,"hidden":true}
["Datenbasis für Prognoseblatt"]
[]
[]
[null,"1. Schulformen (Quelle für das Auswahlfeld unter 1.)","Schulform (SF)"]
[1,"(noch keine Auswahl)",{"$f":"IF(Schulformauswahl=Daten!B5,1,IF(Schulformauswahl=Daten!B6,2,IF(Schulformauswahl=Daten!B7,3,IF(Schulformauswahl=Daten!B8,4,IF(Schulformauswahl=Daten!B9,5,IF(Schulformauswahl=Daten!B10,6,IF(Schulformauswahl=Daten!B11,7,IF(Schulformauswahl=Daten!B12,8))))))))","v":1}]
[2,"Grund-, Haupt- oder Realschule"]
[3,"Grund- und/oder Oberschule"]
[4,"Gesamtschule"]
[5,"Gymnasium"]
[6,"Freie Waldorfschule ohne Förderschulzweig"]
[7,"Freie Waldorfschule mit Förderschulzweig"]
[8,"Förderschule"]
[]
[]
[null,"2. Zusatzversorgung","ZV"]
[1,"nein",{"$f":"IF(ZV_J_N=Daten!B16,1,IF(ZV_J_N=Daten!B17,2))","v":1}]
[2,"ja"]
[]
[]
[null,"3 ruhegehaltsfähigen Dienstbezüge","rDB"]
[1,"nein",{"$f":"IF(rDB_J_N=Daten!B21,1,IF(rDB_J_N=Daten!B22,2))","v":1}]
[2,"ja"]